BEGIN:VCALENDAR
VERSION:2.0
PRODID:-//highdesertpartnership.org//NONSGML kigkonsult.se iCalcreator 2.30
 .10//
CALSCALE:GREGORIAN
METHOD:PUBLISH
UID:8d9ae255-9735-4e6e-8a9b-872f5f3a848b
X-WR-CALDESC:HDP became a 501c3 nonprofit February 14\, 2007.
X-WR-RELCALID:37601188da80e1ce5c652f86a05b4dcf
X-WR-TIMEZONE:America/Los_Angeles
BEGIN:VTIMEZONE
TZID:America/Los_Angeles
BEGIN:STANDARD
TZNAME:PST
DTSTART:20281105T020000
TZOFFSETFROM:-0700
TZOFFSETTO:-0800
RDATE:20291104T020000
END:STANDARD
BEGIN:DAYLIGHT
TZNAME:PDT
DTSTART:20280312T020000
TZOFFSETFROM:-0800
TZOFFSETTO:-0700
RDATE:20290311T020000
RDATE:20300310T020000
END:DAYLIGHT
END:VTIMEZONE
BEGIN:VEVENT
UID:7d18c669-d63e-4259-86c8-56ebb679c955
DTSTAMP:20260423T124954Z
DESCRIPTION:HDP became a 501c3 nonprofit February 14\, 2007.
DTSTART;TZID=America/Los_Angeles:20290214T030000
DTEND;TZID=America/Los_Angeles:20290214T030001
LOCATION:235 Highway 20 North\, Hines\, OR 97738 US
SUMMARY:Happy Anniversary HDP
END:VEVENT
END:VCALENDAR
