BEGIN:VCALENDAR
VERSION:2.0
PRODID:-//highdesertpartnership.org//NONSGML kigkonsult.se iCalcreator 2.30
 .10//
CALSCALE:GREGORIAN
METHOD:PUBLISH
UID:f6634bc1-25b7-4dff-9d14-a15385c1b88a
X-WR-CALDESC:
X-WR-RELCALID:07bf831e6141970b8acd13619c6912b9
X-WR-TIMEZONE:America/Los_Angeles
BEGIN:VTIMEZONE
TZID:America/Los_Angeles
BEGIN:STANDARD
TZNAME:PST
DTSTART:20281105T020000
TZOFFSETFROM:-0700
TZOFFSETTO:-0800
RDATE:20291104T020000
END:STANDARD
BEGIN:DAYLIGHT
TZNAME:PDT
DTSTART:20280312T020000
TZOFFSETFROM:-0800
TZOFFSETTO:-0700
RDATE:20290311T020000
RDATE:20300310T020000
END:DAYLIGHT
END:VTIMEZONE
BEGIN:VEVENT
UID:0ea5e1c2-3659-43dc-994f-aa5f2461b661
DTSTAMP:20260423T092348Z
DESCRIPTION:
DTSTART;TZID=America/Los_Angeles:20281224T000000
DTEND;TZID=America/Los_Angeles:20281224T235900
LOCATION:
SUMMARY:Christmas Eve
END:VEVENT
END:VCALENDAR
