BEGIN:VCALENDAR
VERSION:2.0
PRODID:-//highdesertpartnership.org//NONSGML kigkonsult.se iCalcreator 2.30
 .10//
CALSCALE:GREGORIAN
METHOD:PUBLISH
UID:73db8c87-7426-4947-bedd-7ca394e8d1f4
X-WR-CALDESC:HDP became a 501c3 nonprofit February 14\, 2007.
X-WR-RELCALID:52a5bfcfcd987fdbac8b7d1be9bb24c3
X-WR-TIMEZONE:America/Los_Angeles
BEGIN:VTIMEZONE
TZID:America/Los_Angeles
BEGIN:STANDARD
TZNAME:PST
DTSTART:20271107T020000
TZOFFSETFROM:-0700
TZOFFSETTO:-0800
RDATE:20281105T020000
END:STANDARD
BEGIN:DAYLIGHT
TZNAME:PDT
DTSTART:20270314T020000
TZOFFSETFROM:-0800
TZOFFSETTO:-0700
RDATE:20280312T020000
RDATE:20290311T020000
END:DAYLIGHT
END:VTIMEZONE
BEGIN:VEVENT
UID:71042da0-3496-4f5c-bd28-2fe183fd9df9
DTSTAMP:20260422T144027Z
DESCRIPTION:HDP became a 501c3 nonprofit February 14\, 2007.
DTSTART;TZID=America/Los_Angeles:20280214T030000
DTEND;TZID=America/Los_Angeles:20280214T030001
LOCATION:235 Highway 20 North\, Hines\, OR 97738 US
SUMMARY:Happy Anniversary HDP
END:VEVENT
END:VCALENDAR
