BEGIN:VCALENDAR
VERSION:2.0
PRODID:-//highdesertpartnership.org//NONSGML kigkonsult.se iCalcreator 2.30
 .10//
CALSCALE:GREGORIAN
METHOD:PUBLISH
UID:4487cae1-d0ba-43e2-805c-5daf414e1b43
X-WR-CALDESC:
X-WR-RELCALID:59e8f937a241633abd3381dcd9a7f084
X-WR-TIMEZONE:America/Los_Angeles
BEGIN:VTIMEZONE
TZID:America/Los_Angeles
BEGIN:STANDARD
TZNAME:PST
DTSTART:20271107T020000
TZOFFSETFROM:-0700
TZOFFSETTO:-0800
RDATE:20281105T020000
END:STANDARD
BEGIN:DAYLIGHT
TZNAME:PDT
DTSTART:20270314T020000
TZOFFSETFROM:-0800
TZOFFSETTO:-0700
RDATE:20280312T020000
RDATE:20290311T020000
END:DAYLIGHT
END:VTIMEZONE
BEGIN:VEVENT
UID:8b93fb4c-e6f3-4d28-bf88-99d27e04e43f
DTSTAMP:20260422T105851Z
DESCRIPTION:
DTSTART;TZID=America/Los_Angeles:20271225T000000
DTEND;TZID=America/Los_Angeles:20271225T235900
LOCATION:
SUMMARY:Christmas
END:VEVENT
END:VCALENDAR
