BEGIN:VCALENDAR
VERSION:2.0
PRODID:-//highdesertpartnership.org//NONSGML kigkonsult.se iCalcreator 2.30
 .10//
CALSCALE:GREGORIAN
METHOD:PUBLISH
UID:e2afcffd-094e-42dd-a285-a1253742f0b4
X-WR-CALDESC:HDP became a 501c3 nonprofit February 14\, 2007.
X-WR-RELCALID:b2160e8d108d605dec2d73540f84ffc9
X-WR-TIMEZONE:America/Los_Angeles
BEGIN:VTIMEZONE
TZID:America/Los_Angeles
BEGIN:STANDARD
TZNAME:PST
DTSTART:20261101T020000
TZOFFSETFROM:-0700
TZOFFSETTO:-0800
RDATE:20271107T020000
END:STANDARD
BEGIN:DAYLIGHT
TZNAME:PDT
DTSTART:20260308T020000
TZOFFSETFROM:-0800
TZOFFSETTO:-0700
RDATE:20270314T020000
RDATE:20280312T020000
END:DAYLIGHT
END:VTIMEZONE
BEGIN:VEVENT
UID:4ad8bbcb-a5e8-49a0-8133-acc8fb836464
DTSTAMP:20260421T170810Z
DESCRIPTION:HDP became a 501c3 nonprofit February 14\, 2007.
DTSTART;TZID=America/Los_Angeles:20270214T030000
DTEND;TZID=America/Los_Angeles:20270214T030001
LOCATION:235 Highway 20 North\, Hines\, OR 97738 US
SUMMARY:Happy Anniversary HDP
END:VEVENT
END:VCALENDAR
