BEGIN:VCALENDAR
VERSION:2.0
PRODID:-//highdesertpartnership.org//NONSGML kigkonsult.se iCalcreator 2.30
 .10//
CALSCALE:GREGORIAN
METHOD:PUBLISH
UID:828e1d17-7db6-4b63-80b3-51ea21648a63
X-WR-CALDESC:
X-WR-RELCALID:ccf164ad303edb5d90c9ed77bb7e8f02
X-WR-TIMEZONE:America/Los_Angeles
BEGIN:VTIMEZONE
TZID:America/Los_Angeles
BEGIN:STANDARD
TZNAME:PST
DTSTART:20261101T020000
TZOFFSETFROM:-0700
TZOFFSETTO:-0800
RDATE:20271107T020000
END:STANDARD
BEGIN:DAYLIGHT
TZNAME:PDT
DTSTART:20260308T020000
TZOFFSETFROM:-0800
TZOFFSETTO:-0700
RDATE:20270314T020000
RDATE:20280312T020000
END:DAYLIGHT
END:VTIMEZONE
BEGIN:VEVENT
UID:03922bf8-0cfe-4cfd-a3fb-f3d82a2b1265
DTSTAMP:20260421T134054Z
DESCRIPTION:
DTSTART;TZID=America/Los_Angeles:20261231T000000
DTEND;TZID=America/Los_Angeles:20261231T235900
LOCATION:
SUMMARY:New Year's Eve
END:VEVENT
END:VCALENDAR
