BEGIN:VCALENDAR
VERSION:2.0
PRODID:-//highdesertpartnership.org//NONSGML kigkonsult.se iCalcreator 2.30
 .10//
CALSCALE:GREGORIAN
METHOD:PUBLISH
UID:56d4a434-41dd-4545-8361-0150f702ea2a
X-WR-CALDESC:
X-WR-RELCALID:18f8281a40152759dd79b8a108e926ab
X-WR-TIMEZONE:America/Los_Angeles
BEGIN:VTIMEZONE
TZID:America/Los_Angeles
BEGIN:STANDARD
TZNAME:PST
DTSTART:20261101T020000
TZOFFSETFROM:-0700
TZOFFSETTO:-0800
RDATE:20271107T020000
END:STANDARD
BEGIN:DAYLIGHT
TZNAME:PDT
DTSTART:20260308T020000
TZOFFSETFROM:-0800
TZOFFSETTO:-0700
RDATE:20270314T020000
RDATE:20280312T020000
END:DAYLIGHT
END:VTIMEZONE
BEGIN:VEVENT
UID:39e52766-504c-42f3-b385-914f844cf1f2
DTSTAMP:20260421T134332Z
DESCRIPTION:
DTSTART;TZID=America/Los_Angeles:20261225T000000
DTEND;TZID=America/Los_Angeles:20261225T235900
LOCATION:
SUMMARY:Christmas
END:VEVENT
END:VCALENDAR
