BEGIN:VCALENDAR
VERSION:2.0
PRODID:-//highdesertpartnership.org//NONSGML kigkonsult.se iCalcreator 2.30
 .10//
CALSCALE:GREGORIAN
METHOD:PUBLISH
UID:ab31e95b-a306-4907-836e-a986b98d4723
X-WR-CALDESC:
X-WR-RELCALID:188f97e7ec9a7ebd4cfcc8ed0dcff4d7
X-WR-TIMEZONE:America/Los_Angeles
BEGIN:VTIMEZONE
TZID:America/Los_Angeles
BEGIN:STANDARD
TZNAME:PST
DTSTART:20261101T020000
TZOFFSETFROM:-0700
TZOFFSETTO:-0800
RDATE:20271107T020000
END:STANDARD
BEGIN:DAYLIGHT
TZNAME:PDT
DTSTART:20260308T020000
TZOFFSETFROM:-0800
TZOFFSETTO:-0700
RDATE:20270314T020000
RDATE:20280312T020000
END:DAYLIGHT
END:VTIMEZONE
BEGIN:VEVENT
UID:52d9735d-0d98-4d4d-b758-6c1d12eb4484
DTSTAMP:20260421T134554Z
DESCRIPTION:
DTSTART;TZID=America/Los_Angeles:20261224T000000
DTEND;TZID=America/Los_Angeles:20261224T235900
LOCATION:
SUMMARY:Christmas Eve
END:VEVENT
END:VCALENDAR
