BEGIN:VCALENDAR
VERSION:2.0
PRODID:-//highdesertpartnership.org//NONSGML kigkonsult.se iCalcreator 2.30
 .10//
CALSCALE:GREGORIAN
METHOD:PUBLISH
UID:5ca210e9-4b33-424f-a1eb-fca72ee2ea68
X-WR-CALDESC:This is a meeting of the Malheur National Wildlife Refuge Comp
 rehensive Conservation Plan Collaborative (CCP). This meeting is about the
  CCP planning process and will offer valuable opportunities for meaningful
  discussions.
X-WR-RELCALID:b7595c7926b0e2e2c47c8a13043dac88
X-WR-TIMEZONE:America/Los_Angeles
BEGIN:VTIMEZONE
TZID:America/Los_Angeles
BEGIN:STANDARD
TZNAME:PST
DTSTART:20261101T020000
TZOFFSETFROM:-0700
TZOFFSETTO:-0800
RDATE:20271107T020000
END:STANDARD
BEGIN:DAYLIGHT
TZNAME:PDT
DTSTART:20260308T020000
TZOFFSETFROM:-0800
TZOFFSETTO:-0700
RDATE:20270314T020000
RDATE:20280312T020000
END:DAYLIGHT
END:VTIMEZONE
BEGIN:VEVENT
UID:873f35a4-d56c-4c5e-a6f9-dfb941af5cfc
DTSTAMP:20260421T114703Z
DESCRIPTION:This is a meeting of the Malheur National Wildlife Refuge Compr
 ehensive Conservation Plan Collaborative (CCP). This meeting is about the 
 CCP planning process and will offer valuable opportunities for meaningful 
 discussions.
DTSTART;TZID=America/Los_Angeles:20261112T090000
DTEND;TZID=America/Los_Angeles:20261112T130000
LOCATION:Harney County Community Center
SUMMARY:Malheur National Wildlife Refuge Comprehensive Conservation Plan Co
 llaborative Meeting
END:VEVENT
END:VCALENDAR
