BEGIN:VCALENDAR
VERSION:2.0
PRODID:-//highdesertpartnership.org//NONSGML kigkonsult.se iCalcreator 2.30
 .10//
CALSCALE:GREGORIAN
METHOD:PUBLISH
UID:47c19732-e945-4f5a-9a8d-095d4027249a
X-WR-CALDESC:A bimonthly meeting of the Youth Changing the Community Collab
 orative (YCTC). YCTC exists to engage the community in creating opportunit
 ies that enrich Harney County’s youth\, providing skills and motivation to
  prepare them for the future\, inspire self-worth\, instill civic pride\, 
 and promote a positive work ethic.
X-WR-RELCALID:bf1d223a6730520e8795fed9fd2c8c9d
X-WR-TIMEZONE:America/Los_Angeles
BEGIN:VTIMEZONE
TZID:America/Los_Angeles
BEGIN:STANDARD
TZNAME:PST
DTSTART:20251102T020000
TZOFFSETFROM:-0700
TZOFFSETTO:-0800
RDATE:20261101T020000
RDATE:20271107T020000
END:STANDARD
BEGIN:DAYLIGHT
TZNAME:PDT
DTSTART:20260308T020000
TZOFFSETFROM:-0800
TZOFFSETTO:-0700
RDATE:20270314T020000
END:DAYLIGHT
END:VTIMEZONE
BEGIN:VEVENT
UID:379d86fd-9384-47ca-b2b4-778c9004a0fc
DTSTAMP:20260421T044227Z
DESCRIPTION:A bimonthly meeting of the Youth Changing the Community Collabo
 rative (YCTC). YCTC exists to engage the community in creating opportuniti
 es that enrich Harney County’s youth\, providing skills and motivation to 
 prepare them for the future\, inspire self-worth\, instill civic pride\, a
 nd promote a positive work ethic.
DTSTART;TZID=America/Los_Angeles:20260728T160000
DTEND;TZID=America/Los_Angeles:20260728T172000
LOCATION:High Desert Partnership
SUMMARY:Youth Changing the Community Collaborative Meeting
END:VEVENT
END:VCALENDAR
