BEGIN:VCALENDAR
VERSION:2.0
PRODID:-//highdesertpartnership.org//NONSGML kigkonsult.se iCalcreator 2.30
 .10//
CALSCALE:GREGORIAN
METHOD:PUBLISH
UID:2f057939-f92d-4304-a68e-20adfcaec792
X-WR-CALDESC:This is a meeting of the Malheur National Wildlife Refuge Comp
 rehensive Conservation Plan Collaborative (CCP). This meeting is about the
  CCP planning process and will offer valuable opportunities for meaningful
  discussions.
X-WR-RELCALID:ce27ae63e8bbf0af90b88e86c4968262
X-WR-TIMEZONE:America/Los_Angeles
BEGIN:VTIMEZONE
TZID:America/Los_Angeles
BEGIN:STANDARD
TZNAME:PST
DTSTART:20251102T020000
TZOFFSETFROM:-0700
TZOFFSETTO:-0800
RDATE:20261101T020000
RDATE:20271107T020000
END:STANDARD
BEGIN:DAYLIGHT
TZNAME:PDT
DTSTART:20260308T020000
TZOFFSETFROM:-0800
TZOFFSETTO:-0700
RDATE:20270314T020000
END:DAYLIGHT
END:VTIMEZONE
BEGIN:VEVENT
UID:693f8906-d4db-4fca-82a2-de3d2e253a36
DTSTAMP:20260421T044602Z
DESCRIPTION:This is a meeting of the Malheur National Wildlife Refuge Compr
 ehensive Conservation Plan Collaborative (CCP). This meeting is about the 
 CCP planning process and will offer valuable opportunities for meaningful 
 discussions.
DTSTART;TZID=America/Los_Angeles:20260722T090000
DTEND;TZID=America/Los_Angeles:20260722T130000
LOCATION:Harney County Community Center
SUMMARY:Malheur National Wildlife Refuge Comprehensive Conservation Plan Co
 llaborative Meeting
END:VEVENT
END:VCALENDAR
