BEGIN:VCALENDAR
VERSION:2.0
PRODID:-//highdesertpartnership.org//NONSGML kigkonsult.se iCalcreator 2.30
 .10//
CALSCALE:GREGORIAN
METHOD:PUBLISH
UID:eb7faf2b-92ab-4ddc-97b4-27bb93eb1b76
X-WR-CALDESC:HDP became a 501c3 nonprofit February 14\, 2007.
X-WR-RELCALID:71abb4c0e6f2007d13269c89c48d78b0
X-WR-TIMEZONE:America/Los_Angeles
BEGIN:VTIMEZONE
TZID:America/Los_Angeles
BEGIN:STANDARD
TZNAME:PST
DTSTART:20251102T020000
TZOFFSETFROM:-0700
TZOFFSETTO:-0800
RDATE:20261101T020000
END:STANDARD
BEGIN:DAYLIGHT
TZNAME:PDT
DTSTART:20250309T020000
TZOFFSETFROM:-0800
TZOFFSETTO:-0700
RDATE:20260308T020000
RDATE:20270314T020000
END:DAYLIGHT
END:VTIMEZONE
BEGIN:VEVENT
UID:a1b5acfa-79cb-48b3-8b28-c29011f22c20
DTSTAMP:20260420T185847Z
DESCRIPTION:HDP became a 501c3 nonprofit February 14\, 2007.
DTSTART;TZID=America/Los_Angeles:20260214T030000
DTEND;TZID=America/Los_Angeles:20260214T030001
LOCATION:235 Highway 20 North\, Hines\, OR 97738 US
SUMMARY:Happy Anniversary HDP
END:VEVENT
END:VCALENDAR
