BEGIN:VCALENDAR
VERSION:2.0
PRODID:-//highdesertpartnership.org//NONSGML kigkonsult.se iCalcreator 2.30
 .10//
CALSCALE:GREGORIAN
METHOD:PUBLISH
UID:2b5538d3-ba4c-4e01-89f7-376b07902a15
X-WR-CALDESC:
X-WR-RELCALID:61660287d5c55dad7b6c546da7106d4c
X-WR-TIMEZONE:America/Los_Angeles
BEGIN:VTIMEZONE
TZID:America/Los_Angeles
BEGIN:STANDARD
TZNAME:PST
DTSTART:20251102T020000
TZOFFSETFROM:-0700
TZOFFSETTO:-0800
RDATE:20261101T020000
END:STANDARD
BEGIN:DAYLIGHT
TZNAME:PDT
DTSTART:20250309T020000
TZOFFSETFROM:-0800
TZOFFSETTO:-0700
RDATE:20260308T020000
RDATE:20270314T020000
END:DAYLIGHT
END:VTIMEZONE
BEGIN:VEVENT
UID:29e488ee-501e-4cf9-afb9-c2ae427c1c78
DTSTAMP:20260420T152621Z
DESCRIPTION:
DTSTART;TZID=America/Los_Angeles:20251231T000000
DTEND;TZID=America/Los_Angeles:20251231T235900
LOCATION:
SUMMARY:New Year's Eve
END:VEVENT
END:VCALENDAR
