BEGIN:VCALENDAR
VERSION:2.0
PRODID:-//highdesertpartnership.org//NONSGML kigkonsult.se iCalcreator 2.30
 .10//
CALSCALE:GREGORIAN
METHOD:PUBLISH
UID:e1b2ce91-bfc9-482b-82c9-d79a959febae
X-WR-CALDESC:
X-WR-RELCALID:1a77ef3b9c0b12d6b1e9ec2577c05c72
X-WR-TIMEZONE:America/Los_Angeles
BEGIN:VTIMEZONE
TZID:America/Los_Angeles
BEGIN:STANDARD
TZNAME:PST
DTSTART:20251102T020000
TZOFFSETFROM:-0700
TZOFFSETTO:-0800
RDATE:20261101T020000
END:STANDARD
BEGIN:DAYLIGHT
TZNAME:PDT
DTSTART:20250309T020000
TZOFFSETFROM:-0800
TZOFFSETTO:-0700
RDATE:20260308T020000
RDATE:20270314T020000
END:DAYLIGHT
END:VTIMEZONE
BEGIN:VEVENT
UID:e08dcae8-1e30-4168-b16f-2c7f97bf8dcf
DTSTAMP:20260420T153057Z
DESCRIPTION:
DTSTART;TZID=America/Los_Angeles:20251225T000000
DTEND;TZID=America/Los_Angeles:20251225T235900
LOCATION:
SUMMARY:Christmas
END:VEVENT
END:VCALENDAR
