BEGIN:VCALENDAR
VERSION:2.0
PRODID:-//highdesertpartnership.org//NONSGML kigkonsult.se iCalcreator 2.30
 .10//
CALSCALE:GREGORIAN
METHOD:PUBLISH
UID:a6d6e250-a73c-400a-b3dc-15e5939c4c87
X-WR-CALDESC:
X-WR-RELCALID:21a3c77759f3c7a77ad64ab0006c0a38
X-WR-TIMEZONE:America/Los_Angeles
BEGIN:VTIMEZONE
TZID:America/Los_Angeles
BEGIN:STANDARD
TZNAME:PST
DTSTART:20251102T020000
TZOFFSETFROM:-0700
TZOFFSETTO:-0800
RDATE:20261101T020000
END:STANDARD
BEGIN:DAYLIGHT
TZNAME:PDT
DTSTART:20250309T020000
TZOFFSETFROM:-0800
TZOFFSETTO:-0700
RDATE:20260308T020000
RDATE:20270314T020000
END:DAYLIGHT
END:VTIMEZONE
BEGIN:VEVENT
UID:52e672d7-c410-4f61-9061-6924a7b12dd7
DTSTAMP:20260420T152712Z
DESCRIPTION:
DTSTART;TZID=America/Los_Angeles:20251224T000000
DTEND;TZID=America/Los_Angeles:20251224T235900
LOCATION:
SUMMARY:Christmas Eve
END:VEVENT
END:VCALENDAR
