BEGIN:VCALENDAR
VERSION:2.0
PRODID:-//highdesertpartnership.org//NONSGML kigkonsult.se iCalcreator 2.30
 .10//
CALSCALE:GREGORIAN
METHOD:PUBLISH
UID:87c92967-4344-4bae-b5e3-f4cca407777f
X-WR-CALDESC:
X-WR-RELCALID:a4856f7d084ac02289e93c9ac88c8d35
X-WR-TIMEZONE:America/Los_Angeles
BEGIN:VTIMEZONE
TZID:America/Los_Angeles
BEGIN:STANDARD
TZNAME:PST
DTSTART:20251102T020000
TZOFFSETFROM:-0700
TZOFFSETTO:-0800
RDATE:20261101T020000
END:STANDARD
BEGIN:DAYLIGHT
TZNAME:PDT
DTSTART:20250309T020000
TZOFFSETFROM:-0800
TZOFFSETTO:-0700
RDATE:20260308T020000
RDATE:20270314T020000
END:DAYLIGHT
END:VTIMEZONE
BEGIN:VEVENT
UID:f09d3ff4-f3b1-4c3c-84b6-891169130aa2
DTSTAMP:20260420T135511Z
DESCRIPTION:
DTSTART;TZID=America/Los_Angeles:20251127T030000
DTEND;TZID=America/Los_Angeles:20251127T030001
LOCATION:
SUMMARY:Thanksgiving
END:VEVENT
END:VCALENDAR
