BEGIN:VCALENDAR
VERSION:2.0
PRODID:-//highdesertpartnership.org//NONSGML kigkonsult.se iCalcreator 2.30
 .10//
CALSCALE:GREGORIAN
METHOD:PUBLISH
UID:a1d11952-63d4-4f22-85a6-ec616584f169
X-WR-CALDESC:
X-WR-RELCALID:4983d5f2e54f1f9b0b64fe053d4a3b45
X-WR-TIMEZONE:America/Los_Angeles
BEGIN:VTIMEZONE
TZID:America/Los_Angeles
BEGIN:STANDARD
TZNAME:PST
DTSTART:20251102T020000
TZOFFSETFROM:-0700
TZOFFSETTO:-0800
RDATE:20261101T020000
END:STANDARD
BEGIN:DAYLIGHT
TZNAME:PDT
DTSTART:20250309T020000
TZOFFSETFROM:-0800
TZOFFSETTO:-0700
RDATE:20260308T020000
RDATE:20270314T020000
END:DAYLIGHT
END:VTIMEZONE
BEGIN:VEVENT
UID:80136777-807e-4cc5-9d5d-1c01d4d4bc14
DTSTAMP:20260420T135634Z
DESCRIPTION:
DTSTART;TZID=America/Los_Angeles:20251124T170000
DTEND;TZID=America/Los_Angeles:20251124T190000
LOCATION:High Desert Partnership
SUMMARY:High Desert Partnership Board Meeting
END:VEVENT
END:VCALENDAR
