BEGIN:VCALENDAR
VERSION:2.0
PRODID:-//highdesertpartnership.org//NONSGML kigkonsult.se iCalcreator 2.30
 .10//
CALSCALE:GREGORIAN
METHOD:PUBLISH
UID:7963f9fd-c242-4586-870d-8682df750519
X-WR-CALDESC:Due to the recent government shutdown\, the MNWR Refuge CCP me
 eting scheduled for Thursday November 6th is cancelled. As a result\, the 
 majority of  MNWR staff have been placed on furlough\, halting further pro
 gress and limiting the ability to adequately prepare for the upcoming meet
 ing. Even if operations resume prior to that date\, there will likely not 
 be sufficient time to ensure a productive and  meaningful session.\n \nWe 
 appreciate your understanding and patience during this time. The refuge re
 mains committed to their collaborative efforts and will provide updates as
  soon as operations resume.
X-WR-RELCALID:c02e8603f47d74d34938efcbeac9f445
X-WR-TIMEZONE:America/Los_Angeles
BEGIN:VTIMEZONE
TZID:America/Los_Angeles
BEGIN:STANDARD
TZNAME:PST
DTSTART:20251102T020000
TZOFFSETFROM:-0700
TZOFFSETTO:-0800
RDATE:20261101T020000
END:STANDARD
BEGIN:DAYLIGHT
TZNAME:PDT
DTSTART:20250309T020000
TZOFFSETFROM:-0800
TZOFFSETTO:-0700
RDATE:20260308T020000
RDATE:20270314T020000
END:DAYLIGHT
END:VTIMEZONE
BEGIN:VEVENT
UID:932e3c6b-25b4-4fe6-853c-155e490b7419
DTSTAMP:20260420T133929Z
DESCRIPTION:Due to the recent government shutdown\, the MNWR Refuge CCP mee
 ting scheduled for Thursday November 6th is cancelled. As a result\, the m
 ajority of  MNWR staff have been placed on furlough\, halting further prog
 ress and limiting the ability to adequately prepare for the upcoming meeti
 ng. Even if operations resume prior to that date\, there will likely not b
 e sufficient time to ensure a productive and  meaningful session.\n \nWe a
 ppreciate your understanding and patience during this time. The refuge rem
 ains committed to their collaborative efforts and will provide updates as 
 soon as operations resume.
DTSTART;TZID=America/Los_Angeles:20251106T090000
DTEND;TZID=America/Los_Angeles:20251106T153000
LOCATION:Harney County Chamber of Commerce
SUMMARY:CANCELLED: Malheur National Wildlife Refuge Comprehensive Conservat
 ion Plan Collaborative Meeting
END:VEVENT
END:VCALENDAR
