BEGIN:VCALENDAR
VERSION:2.0
PRODID:-//highdesertpartnership.org//NONSGML kigkonsult.se iCalcreator 2.30
 .10//
CALSCALE:GREGORIAN
METHOD:PUBLISH
UID:4a22b6c2-2ece-4e1a-b831-822e43c593a0
X-WR-CALDESC:Join us for a special community screening of “The Harney Way” 
 at the historic Desert Theatre!\nThis documentary showcases the power of w
 orking together in the Harney Basin through inspiring local stories—a perf
 ect evening out with neighbors.\n→ Wednesday\, Sept 24\n→ 7-8pm \n→ 68 N B
 roadway\, Burns \n→ FREE admission\, plus complimentary popcorn & drinks\n
 Don’t miss this celebration of what makes our community strong—see you the
 re.
X-WR-RELCALID:a9bf6f2ae3efb6bd7b3526a72826dfd5
X-WR-TIMEZONE:America/Los_Angeles
BEGIN:VTIMEZONE
TZID:America/Los_Angeles
BEGIN:STANDARD
TZNAME:PST
DTSTART:20241103T020000
TZOFFSETFROM:-0700
TZOFFSETTO:-0800
RDATE:20251102T020000
RDATE:20261101T020000
END:STANDARD
BEGIN:DAYLIGHT
TZNAME:PDT
DTSTART:20250309T020000
TZOFFSETFROM:-0800
TZOFFSETTO:-0700
RDATE:20260308T020000
RDATE:20270314T020000
END:DAYLIGHT
END:VTIMEZONE
BEGIN:VEVENT
UID:a9cc71a0-c19a-4af1-825d-7891f33f05c3
DTSTAMP:20260420T102950Z
DESCRIPTION:Join us for a special community screening of “The Harney Way” a
 t the historic Desert Theatre!\nThis documentary showcases the power of wo
 rking together in the Harney Basin through inspiring local stories—a perfe
 ct evening out with neighbors.\n→ Wednesday\, Sept 24\n→ 7-8pm \n→ 68 N Br
 oadway\, Burns \n→ FREE admission\, plus complimentary popcorn & drinks\nD
 on’t miss this celebration of what makes our community strong—see you ther
 e.
DTSTART;TZID=America/Los_Angeles:20250924T190000
DTEND;TZID=America/Los_Angeles:20250924T200000
LOCATION:68 N Broadway\, Burns\, OR 97720 US
SUMMARY:The Harney Way Community Film Showing
END:VEVENT
END:VCALENDAR
