BEGIN:VCALENDAR
VERSION:2.0
PRODID:-//highdesertpartnership.org//NONSGML kigkonsult.se iCalcreator 2.30
 .10//
CALSCALE:GREGORIAN
METHOD:PUBLISH
UID:805c0695-5d3e-42f5-a477-e208ed18af9b
X-WR-CALDESC:This is a meeting of the Malheur National Wildlife Refuge Comp
 rehensive Conservation Plan Collaborative (CCP). This meeting is about the
  CCP planning process and will offer valuable opportunities for meaningful
  discussions.
X-WR-RELCALID:7d809fdb271aef56443e9d517dec9a7d
X-WR-TIMEZONE:America/Los_Angeles
BEGIN:VTIMEZONE
TZID:America/Los_Angeles
BEGIN:STANDARD
TZNAME:PST
DTSTART:20241103T020000
TZOFFSETFROM:-0700
TZOFFSETTO:-0800
RDATE:20251102T020000
RDATE:20261101T020000
END:STANDARD
BEGIN:DAYLIGHT
TZNAME:PDT
DTSTART:20250309T020000
TZOFFSETFROM:-0800
TZOFFSETTO:-0700
RDATE:20260308T020000
RDATE:20270314T020000
END:DAYLIGHT
END:VTIMEZONE
BEGIN:VEVENT
UID:8f8a856d-cc0e-4e2c-b5ec-a279c0a4d1f7
DTSTAMP:20260420T103107Z
DESCRIPTION:This is a meeting of the Malheur National Wildlife Refuge Compr
 ehensive Conservation Plan Collaborative (CCP). This meeting is about the 
 CCP planning process and will offer valuable opportunities for meaningful 
 discussions.
DTSTART;TZID=America/Los_Angeles:20250924T120000
DTEND;TZID=America/Los_Angeles:20250924T153000
LOCATION:Harney County Chamber of Commerce
SUMMARY:Malheur National Wildlife Refuge Comprehensive Conservation Plan Co
 llaborative Meeting
END:VEVENT
END:VCALENDAR
