BEGIN:VCALENDAR
VERSION:2.0
PRODID:-//highdesertpartnership.org//NONSGML kigkonsult.se iCalcreator 2.30
 .10//
CALSCALE:GREGORIAN
METHOD:PUBLISH
UID:a396160d-7be8-43ad-8b1e-7740dcb8c5bf
X-WR-CALDESC:This is a field tour of this Harney Basin Wetlands Collaborati
 ve. This group is finding solutions for the ecological and economic challe
 nges that face land and water management in the Harney Basin. Land and wat
 er in Harney Basin has continental significance for migratory birds on the
  Pacific Flyway and is one of the foundations for traditional agricultural
  economies in Harney County. The public is always welcome to attend some o
 r all of the meeting. Contact Josey Wilson at josey@highdesertpartnership.
 org with any questions.
X-WR-RELCALID:dd727780abb9ae57bf44bd5dc39d8a3e
X-WR-TIMEZONE:America/Los_Angeles
BEGIN:VTIMEZONE
TZID:America/Los_Angeles
BEGIN:STANDARD
TZNAME:PST
DTSTART:20241103T020000
TZOFFSETFROM:-0700
TZOFFSETTO:-0800
RDATE:20251102T020000
RDATE:20261101T020000
END:STANDARD
BEGIN:DAYLIGHT
TZNAME:PDT
DTSTART:20250309T020000
TZOFFSETFROM:-0800
TZOFFSETTO:-0700
RDATE:20260308T020000
END:DAYLIGHT
END:VTIMEZONE
BEGIN:VEVENT
UID:9014e9ce-e188-46c9-90dc-f6f67ca387a6
DTSTAMP:20260420T083938Z
DESCRIPTION:This is a field tour of this Harney Basin Wetlands Collaborativ
 e. This group is finding solutions for the ecological and economic challen
 ges that face land and water management in the Harney Basin. Land and wate
 r in Harney Basin has continental significance for migratory birds on the 
 Pacific Flyway and is one of the foundations for traditional agricultural 
 economies in Harney County. The public is always welcome to attend some or
  all of the meeting. Contact Josey Wilson at josey@highdesertpartnership.o
 rg with any questions.
DTSTART;TZID=America/Los_Angeles:20250827T100000
DTEND;TZID=America/Los_Angeles:20250827T170000
LOCATION:Harney Basin
SUMMARY:Harney Basin Wetlands Collaborative Field Tour
END:VEVENT
END:VCALENDAR
