BEGIN:VCALENDAR
VERSION:2.0
PRODID:-//highdesertpartnership.org//NONSGML kigkonsult.se iCalcreator 2.30
 .10//
CALSCALE:GREGORIAN
METHOD:PUBLISH
UID:985838cf-6415-4ef5-a5b1-36e77ac493ec
X-WR-CALDESC:
X-WR-RELCALID:256abde419018862affdb9cfc32ae89c
X-WR-TIMEZONE:America/Los_Angeles
BEGIN:VTIMEZONE
TZID:America/Los_Angeles
BEGIN:STANDARD
TZNAME:PST
DTSTART:20241103T020000
TZOFFSETFROM:-0700
TZOFFSETTO:-0800
RDATE:20251102T020000
RDATE:20261101T020000
END:STANDARD
BEGIN:DAYLIGHT
TZNAME:PDT
DTSTART:20250309T020000
TZOFFSETFROM:-0800
TZOFFSETTO:-0700
RDATE:20260308T020000
END:DAYLIGHT
END:VTIMEZONE
BEGIN:VEVENT
UID:527aff76-f6d9-469a-824f-ff882c17bdd6
DTSTAMP:20260420T084310Z
DESCRIPTION:
DTSTART;TZID=America/Los_Angeles:20250825T170000
DTEND;TZID=America/Los_Angeles:20250825T190000
LOCATION:High Desert Partnership
SUMMARY:High Desert Partnership Board Meeting
END:VEVENT
END:VCALENDAR
