BEGIN:VCALENDAR
VERSION:2.0
PRODID:-//highdesertpartnership.org//NONSGML kigkonsult.se iCalcreator 2.30
 .10//
CALSCALE:GREGORIAN
METHOD:PUBLISH
UID:2b8a3547-d230-4a9b-b737-451af941efa8
X-WR-CALDESC:The purpose of this field tour is to provide the opportunity t
 o tour the refuge\, observe key issues firsthand—such as invasive grasses 
 and carp populations—and begin brainstorming potential management actions 
 to address them. These observations and ideas will help inform revisions t
 o the Comprehensive Conservation Plan.
X-WR-RELCALID:7791c53d3f2bb16196bf53a274686712
X-WR-TIMEZONE:America/Los_Angeles
BEGIN:VTIMEZONE
TZID:America/Los_Angeles
BEGIN:STANDARD
TZNAME:PST
DTSTART:20241103T020000
TZOFFSETFROM:-0700
TZOFFSETTO:-0800
RDATE:20251102T020000
RDATE:20261101T020000
END:STANDARD
BEGIN:DAYLIGHT
TZNAME:PDT
DTSTART:20250309T020000
TZOFFSETFROM:-0800
TZOFFSETTO:-0700
RDATE:20260308T020000
END:DAYLIGHT
END:VTIMEZONE
BEGIN:VEVENT
UID:1a9318f2-f6ee-4999-a760-a3982ac312a3
DTSTAMP:20260420T062409Z
DESCRIPTION:The purpose of this field tour is to provide the opportunity to
  tour the refuge\, observe key issues firsthand—such as invasive grasses a
 nd carp populations—and begin brainstorming potential management actions t
 o address them. These observations and ideas will help inform revisions to
  the Comprehensive Conservation Plan.
DTSTART;TZID=America/Los_Angeles:20250723T090000
DTEND;TZID=America/Los_Angeles:20250723T153000
LOCATION:Malheur National Wildlife Refuge
SUMMARY:Malheur National Wildlife Refuge Comprehensive Conservation Plan Co
 llaborative Field Tour
END:VEVENT
END:VCALENDAR
