BEGIN:VCALENDAR
VERSION:2.0
PRODID:-//highdesertpartnership.org//NONSGML kigkonsult.se iCalcreator 2.30
 .10//
CALSCALE:GREGORIAN
METHOD:PUBLISH
UID:0c3cb67f-c4e5-4a53-bbb9-b6a5bc3d3ff9
X-WR-CALDESC:
X-WR-RELCALID:154462469aead3db7f864dbd95da84bd
X-WR-TIMEZONE:America/Los_Angeles
BEGIN:VTIMEZONE
TZID:America/Los_Angeles
BEGIN:STANDARD
TZNAME:PST
DTSTART:20241103T020000
TZOFFSETFROM:-0700
TZOFFSETTO:-0800
RDATE:20251102T020000
RDATE:20261101T020000
END:STANDARD
BEGIN:DAYLIGHT
TZNAME:PDT
DTSTART:20250309T020000
TZOFFSETFROM:-0800
TZOFFSETTO:-0700
RDATE:20260308T020000
END:DAYLIGHT
END:VTIMEZONE
BEGIN:VEVENT
UID:b39afae5-db9c-4c98-878d-e5f16266035e
DTSTAMP:20260420T043750Z
DESCRIPTION:
DTSTART;TZID=America/Los_Angeles:20250630T170000
DTEND;TZID=America/Los_Angeles:20250630T190000
LOCATION:High Desert Partnership
SUMMARY:High Desert Partnership Board Meeting
END:VEVENT
END:VCALENDAR
