BEGIN:VCALENDAR
VERSION:2.0
PRODID:-//highdesertpartnership.org//NONSGML kigkonsult.se iCalcreator 2.30
 .10//
CALSCALE:GREGORIAN
METHOD:PUBLISH
UID:60827c51-49b9-4da6-bb9a-5154507e752d
X-WR-CALDESC:This is a meeting of the Malheur National Wildlife Refuge Comp
 rehensive Conservation Plan Collaborative (CCP) is cancelled.
X-WR-RELCALID:ba4de7bd3c8fe5757710edcb77270397
X-WR-TIMEZONE:America/Los_Angeles
BEGIN:VTIMEZONE
TZID:America/Los_Angeles
BEGIN:STANDARD
TZNAME:PST
DTSTART:20241103T020000
TZOFFSETFROM:-0700
TZOFFSETTO:-0800
RDATE:20251102T020000
RDATE:20261101T020000
END:STANDARD
BEGIN:DAYLIGHT
TZNAME:PDT
DTSTART:20250309T020000
TZOFFSETFROM:-0800
TZOFFSETTO:-0700
RDATE:20260308T020000
END:DAYLIGHT
END:VTIMEZONE
BEGIN:VEVENT
UID:83afe640-11ef-4f63-8e0d-38e58ff2d49b
DTSTAMP:20260420T023525Z
DESCRIPTION:This is a meeting of the Malheur National Wildlife Refuge Compr
 ehensive Conservation Plan Collaborative (CCP) is cancelled.
DTSTART;TZID=America/Los_Angeles:20250528T090000
DTEND;TZID=America/Los_Angeles:20250528T153000
LOCATION:Harney County Chamber of Commerce
SUMMARY:CANCELLED—Malheur National Wildlife Refuge Comprehensive Conservati
 on Plan Collaborative Meeting
END:VEVENT
END:VCALENDAR
