BEGIN:VCALENDAR
VERSION:2.0
PRODID:-//highdesertpartnership.org//NONSGML kigkonsult.se iCalcreator 2.30
 .10//
CALSCALE:GREGORIAN
METHOD:PUBLISH
UID:62f5cb2e-4c35-4cec-9197-6247fb237727
X-WR-CALDESC:Find details and festival events here: https://www.migratorybi
 rdfestival.com/
X-WR-RELCALID:e07110228fe765b87bdf922c2fe3615e
X-WR-TIMEZONE:America/Los_Angeles
BEGIN:VTIMEZONE
TZID:America/Los_Angeles
BEGIN:STANDARD
TZNAME:PST
DTSTART:20241103T020000
TZOFFSETFROM:-0700
TZOFFSETTO:-0800
RDATE:20251102T020000
END:STANDARD
BEGIN:DAYLIGHT
TZNAME:PDT
DTSTART:20250309T020000
TZOFFSETFROM:-0800
TZOFFSETTO:-0700
RDATE:20260308T020000
END:DAYLIGHT
END:VTIMEZONE
BEGIN:VEVENT
UID:8df7dcbd-9099-48c4-8275-bbf4307558b3
DTSTAMP:20260420T005220Z
DESCRIPTION:Find details and festival events here: https://www.migratorybir
 dfestival.com/
DTSTART;TZID=America/Los_Angeles:20250410T030000
DTEND;TZID=America/Los_Angeles:20250413T030001
LOCATION:Harney County
SUMMARY:Harney County Migratory Bird Festival
END:VEVENT
END:VCALENDAR
