BEGIN:VCALENDAR
VERSION:2.0
PRODID:-//highdesertpartnership.org//NONSGML kigkonsult.se iCalcreator 2.30
 .10//
CALSCALE:GREGORIAN
METHOD:PUBLISH
UID:6691bb37-026c-4d33-94df-5a176da703dd
X-WR-CALDESC:A monthly meeting of the Biz Harney Opportunity Collaborative.
  Biz Harney exists to help rural Harney County businesses start\, grow and
  succeed while also helping to build a thriving business environment. Gove
 rnment and nonprofit entities along with Tribal economic development are s
 itting at the same table finding solutions to improve Harney County's busi
 ness opportunity culture.
X-WR-RELCALID:3ea1469dba9498d29c7b1696bc39e6c0
X-WR-TIMEZONE:America/Los_Angeles
BEGIN:VTIMEZONE
TZID:America/Los_Angeles
BEGIN:STANDARD
TZNAME:PST
DTSTART:20241103T020000
TZOFFSETFROM:-0700
TZOFFSETTO:-0800
RDATE:20251102T020000
END:STANDARD
BEGIN:DAYLIGHT
TZNAME:PDT
DTSTART:20250309T020000
TZOFFSETFROM:-0800
TZOFFSETTO:-0700
RDATE:20260308T020000
END:DAYLIGHT
END:VTIMEZONE
BEGIN:VEVENT
UID:60ed5a5e-d05e-45b6-97be-8d14f6c38ef2
DTSTAMP:20260419T231238Z
DESCRIPTION:A monthly meeting of the Biz Harney Opportunity Collaborative. 
 Biz Harney exists to help rural Harney County businesses start\, grow and 
 succeed while also helping to build a thriving business environment. Gover
 nment and nonprofit entities along with Tribal economic development are si
 tting at the same table finding solutions to improve Harney County's busin
 ess opportunity culture.
DTSTART;TZID=America/Los_Angeles:20250326T120000
DTEND;TZID=America/Los_Angeles:20250326T133000
LOCATION:The Foundry Building and virtual via Zoom
SUMMARY:Biz Harney Opportunity Collaborative Meeting
END:VEVENT
END:VCALENDAR
