BEGIN:VCALENDAR
VERSION:2.0
PRODID:-//highdesertpartnership.org//NONSGML kigkonsult.se iCalcreator 2.30
 .10//
CALSCALE:GREGORIAN
METHOD:PUBLISH
UID:678892f6-3014-4959-9bbd-4a88d555be77
X-WR-CALDESC:This is a meeting of the Malheur National Wildlife Refuge Comp
 rehensive Conservation Plan Collaborative (CCP). This meeting is about the
  CCP planning process and will offer valuable opportunities for meaningful
  discussions.
X-WR-RELCALID:2c2dbd415ae5fc082f983d26a66fe5a3
X-WR-TIMEZONE:America/Los_Angeles
BEGIN:VTIMEZONE
TZID:America/Los_Angeles
BEGIN:STANDARD
TZNAME:PST
DTSTART:20241103T020000
TZOFFSETFROM:-0700
TZOFFSETTO:-0800
RDATE:20251102T020000
END:STANDARD
BEGIN:DAYLIGHT
TZNAME:PDT
DTSTART:20250309T020000
TZOFFSETFROM:-0800
TZOFFSETTO:-0700
RDATE:20260308T020000
END:DAYLIGHT
END:VTIMEZONE
BEGIN:VEVENT
UID:eefa943e-0185-4130-846b-c9a21048e5d6
DTSTAMP:20260419T232633Z
DESCRIPTION:This is a meeting of the Malheur National Wildlife Refuge Compr
 ehensive Conservation Plan Collaborative (CCP). This meeting is about the 
 CCP planning process and will offer valuable opportunities for meaningful 
 discussions.
DTSTART;TZID=America/Los_Angeles:20250317T090000
DTEND;TZID=America/Los_Angeles:20250317T153000
LOCATION:Harney County Chamber of Commerce
SUMMARY:Malheur National Wildlife Refuge Comprehensive Conservation Plan Co
 llaborative Meeting
END:VEVENT
END:VCALENDAR
