BEGIN:VCALENDAR
VERSION:2.0
PRODID:-//highdesertpartnership.org//NONSGML kigkonsult.se iCalcreator 2.30
 .10//
CALSCALE:GREGORIAN
METHOD:PUBLISH
UID:550f185f-85b6-4253-a560-52341e8d4332
X-WR-CALDESC:HDP became a 501c3 nonprofit February 14\, 2007.
X-WR-RELCALID:63379be4a03bd01be9b270498ac3cf8c
X-WR-TIMEZONE:America/Los_Angeles
BEGIN:VTIMEZONE
TZID:America/Los_Angeles
BEGIN:STANDARD
TZNAME:PST
DTSTART:20241103T020000
TZOFFSETFROM:-0700
TZOFFSETTO:-0800
RDATE:20251102T020000
END:STANDARD
BEGIN:DAYLIGHT
TZNAME:PDT
DTSTART:20240310T020000
TZOFFSETFROM:-0800
TZOFFSETTO:-0700
RDATE:20250309T020000
RDATE:20260308T020000
END:DAYLIGHT
END:VTIMEZONE
BEGIN:VEVENT
UID:6ae33d71-7c82-4e4c-a329-b2a7a5881694
DTSTAMP:20260419T212625Z
DESCRIPTION:HDP became a 501c3 nonprofit February 14\, 2007.
DTSTART;TZID=America/Los_Angeles:20250214T030000
DTEND;TZID=America/Los_Angeles:20250214T030001
LOCATION:235 Highway 20 North\, Hines\, OR 97738 US
SUMMARY:Happy Anniversary HDP
END:VEVENT
END:VCALENDAR
