BEGIN:VCALENDAR
VERSION:2.0
PRODID:-//highdesertpartnership.org//NONSGML kigkonsult.se iCalcreator 2.30
 .10//
CALSCALE:GREGORIAN
METHOD:PUBLISH
UID:3a7f0e26-430d-4720-913a-80053344bd94
X-WR-CALDESC:This is a meeting of the Malheur National Wildlife Refuge Comp
 rehensive Conservation Plan Collaborative (CCP). This meeting is a kickoff
  to the CCP planning process and will offer valuable opportunities for mea
 ningful discussions.
X-WR-RELCALID:c95a5145c3e6a3d95c561ca991e500cc
X-WR-TIMEZONE:America/Los_Angeles
BEGIN:VTIMEZONE
TZID:America/Los_Angeles
BEGIN:STANDARD
TZNAME:PST
DTSTART:20241103T020000
TZOFFSETFROM:-0700
TZOFFSETTO:-0800
RDATE:20251102T020000
END:STANDARD
BEGIN:DAYLIGHT
TZNAME:PDT
DTSTART:20240310T020000
TZOFFSETFROM:-0800
TZOFFSETTO:-0700
RDATE:20250309T020000
RDATE:20260308T020000
END:DAYLIGHT
END:VTIMEZONE
BEGIN:VEVENT
UID:a49cf084-4fc1-4e5c-9ae6-71229a5bfcf0
DTSTAMP:20260419T194417Z
DESCRIPTION:This is a meeting of the Malheur National Wildlife Refuge Compr
 ehensive Conservation Plan Collaborative (CCP). This meeting is a kickoff 
 to the CCP planning process and will offer valuable opportunities for mean
 ingful discussions.
DTSTART;TZID=America/Los_Angeles:20250129T090000
DTEND;TZID=America/Los_Angeles:20250129T150000
LOCATION:Harney County Chamber of Commerce
SUMMARY:Malheur National Wildlife Refuge Comprehensive Conservation Plan Co
 llaborative Meeting
END:VEVENT
END:VCALENDAR
