BEGIN:VCALENDAR
VERSION:2.0
PRODID:-//highdesertpartnership.org//NONSGML kigkonsult.se iCalcreator 2.30
 .10//
CALSCALE:GREGORIAN
METHOD:PUBLISH
UID:39077dbf-cda4-496f-96be-054b203bd974
X-WR-CALDESC:The bimonthly meeting of this collaborative that is focused on
  reducing the potential for and impact of megafires in Harney County. The 
 public is always welcome. Contact Aaron Johnston at aaron@highdesertpartne
 rship.org with any questions.
X-WR-RELCALID:f2b6ebf911f51af72f91e18dab60e280
X-WR-TIMEZONE:America/Los_Angeles
BEGIN:VTIMEZONE
TZID:America/Los_Angeles
BEGIN:STANDARD
TZNAME:PST
DTSTART:20241103T020000
TZOFFSETFROM:-0700
TZOFFSETTO:-0800
RDATE:20251102T020000
END:STANDARD
BEGIN:DAYLIGHT
TZNAME:PDT
DTSTART:20240310T020000
TZOFFSETFROM:-0800
TZOFFSETTO:-0700
RDATE:20250309T020000
RDATE:20260308T020000
END:DAYLIGHT
END:VTIMEZONE
BEGIN:VEVENT
UID:5e3b8737-3518-4484-ae40-4bd6a6088f4e
DTSTAMP:20260419T194419Z
DESCRIPTION:The bimonthly meeting of this collaborative that is focused on 
 reducing the potential for and impact of megafires in Harney County. The p
 ublic is always welcome. Contact Aaron Johnston at aaron@highdesertpartner
 ship.org with any questions.
DTSTART;TZID=America/Los_Angeles:20250121T130000
DTEND;TZID=America/Los_Angeles:20250121T160000
LOCATION:Harney County Chamber of Commerce
SUMMARY:Harney County Wildfire Collaborative Meeting
END:VEVENT
END:VCALENDAR
