BEGIN:VCALENDAR
VERSION:2.0
PRODID:-//highdesertpartnership.org//NONSGML kigkonsult.se iCalcreator 2.30
 .10//
CALSCALE:GREGORIAN
METHOD:PUBLISH
UID:6553ff19-c1dc-41fe-8190-97613d2b9c2c
X-WR-CALDESC:
X-WR-RELCALID:6b26cbe3de9664dc4510d2fb74acf337
X-WR-TIMEZONE:America/Los_Angeles
BEGIN:VTIMEZONE
TZID:America/Los_Angeles
BEGIN:STANDARD
TZNAME:PST
DTSTART:20241103T020000
TZOFFSETFROM:-0700
TZOFFSETTO:-0800
RDATE:20251102T020000
END:STANDARD
BEGIN:DAYLIGHT
TZNAME:PDT
DTSTART:20240310T020000
TZOFFSETFROM:-0800
TZOFFSETTO:-0700
RDATE:20250309T020000
RDATE:20260308T020000
END:DAYLIGHT
END:VTIMEZONE
BEGIN:VEVENT
UID:2ea5e6f5-20e9-4bb0-88e7-5e2fdb8c90ab
DTSTAMP:20260419T181833Z
DESCRIPTION:
DTSTART;TZID=America/Los_Angeles:20241225T000000
DTEND;TZID=America/Los_Angeles:20241225T235900
LOCATION:
SUMMARY:Christmas
END:VEVENT
END:VCALENDAR
