BEGIN:VCALENDAR
VERSION:2.0
PRODID:-//highdesertpartnership.org//NONSGML kigkonsult.se iCalcreator 2.30
 .10//
CALSCALE:GREGORIAN
METHOD:PUBLISH
UID:c9734c05-2346-4ba1-a133-975b80f80ff7
X-WR-CALDESC:
X-WR-RELCALID:d662dd5367fce1e867f76c6bad2f1b46
X-WR-TIMEZONE:America/Los_Angeles
BEGIN:VTIMEZONE
TZID:America/Los_Angeles
BEGIN:STANDARD
TZNAME:PST
DTSTART:20241103T020000
TZOFFSETFROM:-0700
TZOFFSETTO:-0800
RDATE:20251102T020000
END:STANDARD
BEGIN:DAYLIGHT
TZNAME:PDT
DTSTART:20240310T020000
TZOFFSETFROM:-0800
TZOFFSETTO:-0700
RDATE:20250309T020000
RDATE:20260308T020000
END:DAYLIGHT
END:VTIMEZONE
BEGIN:VEVENT
UID:d61af7c4-9d4f-42d9-852a-469701a66381
DTSTAMP:20260421T090250Z
DESCRIPTION:
DTSTART;TZID=America/Los_Angeles:20241224T000000
DTEND;TZID=America/Los_Angeles:20241224T235900
LOCATION:
SUMMARY:Christmas Eve
END:VEVENT
END:VCALENDAR
