BEGIN:VCALENDAR
VERSION:2.0
PRODID:-//highdesertpartnership.org//NONSGML kigkonsult.se iCalcreator 2.30
 .10//
CALSCALE:GREGORIAN
METHOD:PUBLISH
UID:c3cb3881-7e8b-4cee-b611-294821b0ddf3
X-WR-CALDESC:This is a gathering of this Southern Malheur Forest collaborat
 ive. This working group is finding solutions to improve the health and res
 ilience of Malheur National Forest while improving the economic and social
  conditions of Harney County. For any questions about attending this meeti
 ng contact Aaron Johnston at aaron@highdesertpartnership.org.
X-WR-RELCALID:9c1862a7e3acfa6a467bce3760f3f929
X-WR-TIMEZONE:America/Los_Angeles
BEGIN:VTIMEZONE
TZID:America/Los_Angeles
BEGIN:STANDARD
TZNAME:PST
DTSTART:20241103T020000
TZOFFSETFROM:-0700
TZOFFSETTO:-0800
RDATE:20251102T020000
END:STANDARD
BEGIN:DAYLIGHT
TZNAME:PDT
DTSTART:20240310T020000
TZOFFSETFROM:-0800
TZOFFSETTO:-0700
RDATE:20250309T020000
RDATE:20260308T020000
END:DAYLIGHT
END:VTIMEZONE
BEGIN:VEVENT
UID:fa61965c-0c40-4d01-8e0b-85a842cd6899
DTSTAMP:20260419T164032Z
DESCRIPTION:This is a gathering of this Southern Malheur Forest collaborati
 ve. This working group is finding solutions to improve the health and resi
 lience of Malheur National Forest while improving the economic and social 
 conditions of Harney County. For any questions about attending this meetin
 g contact Aaron Johnston at aaron@highdesertpartnership.org.
DTSTART;TZID=America/Los_Angeles:20241121T150000
DTEND;TZID=America/Los_Angeles:20241121T173000
LOCATION:Virtual via ZOOM
SUMMARY:Harney County Forest Restoration Collaborative Meeting
END:VEVENT
END:VCALENDAR
