BEGIN:VCALENDAR
VERSION:2.0
PRODID:-//highdesertpartnership.org//NONSGML kigkonsult.se iCalcreator 2.30
 .10//
CALSCALE:GREGORIAN
METHOD:PUBLISH
UID:471917bf-01d1-49af-bb0e-16ab504c1e4f
X-WR-CALDESC:The bimonthly meeting of this collaborative that is focused on
  reducing the potential for and impact of megafires in Harney County. The 
 public is always welcome. Contact Aaron Johnston at aaron@highdesertpartne
 rship.org with any questions.
X-WR-RELCALID:930e9fbaf991689ac66bfefa91df6df6
X-WR-TIMEZONE:America/Los_Angeles
BEGIN:VTIMEZONE
TZID:America/Los_Angeles
BEGIN:STANDARD
TZNAME:PST
DTSTART:20241103T020000
TZOFFSETFROM:-0700
TZOFFSETTO:-0800
RDATE:20251102T020000
END:STANDARD
BEGIN:DAYLIGHT
TZNAME:PDT
DTSTART:20240310T020000
TZOFFSETFROM:-0800
TZOFFSETTO:-0700
RDATE:20250309T020000
RDATE:20260308T020000
END:DAYLIGHT
END:VTIMEZONE
BEGIN:VEVENT
UID:0a596f77-6a70-4751-9c9c-24dc538b4c82
DTSTAMP:20260419T163543Z
DESCRIPTION:The bimonthly meeting of this collaborative that is focused on 
 reducing the potential for and impact of megafires in Harney County. The p
 ublic is always welcome. Contact Aaron Johnston at aaron@highdesertpartner
 ship.org with any questions.
DTSTART;TZID=America/Los_Angeles:20241119T090000
DTEND;TZID=America/Los_Angeles:20241119T120000
LOCATION:Harney County ESD\, 25 Fairview Heights Loop\, Burns\, OR 97720 US
SUMMARY:Harney County Wildfire Collaborative Meeting
END:VEVENT
END:VCALENDAR
