BEGIN:VCALENDAR
VERSION:2.0
PRODID:-//highdesertpartnership.org//NONSGML kigkonsult.se iCalcreator 2.30
 .10//
CALSCALE:GREGORIAN
METHOD:PUBLISH
UID:6e08ae8e-102d-4a8a-b409-da3a852270fe
X-WR-CALDESC:Join us for a crucial field tour exploring the aftermath and r
 ecovery efforts of the Parasol\, Upper Pine\, and Telephone Wildfires in H
 arney County.⁠ Experience firsthand how our community comes together to ad
 dress forest restoration challenges. Forest Service representatives will s
 hare updates on potential salvage logging\, ongoing repair work\, and reha
 bilitation initiatives through the NEPA process.⁠\nMeeting Points: ⁠\n- Hi
 gh Desert Partnership office @ 7:45am⁠\n- Junction of NF Roads 17 and Hwy 
 395 @ 8:30am⁠\n⁠\n
X-WR-RELCALID:0e12fca025af4bda89f8a71ee2cf9e12
X-WR-TIMEZONE:America/Los_Angeles
BEGIN:VTIMEZONE
TZID:America/Los_Angeles
BEGIN:STANDARD
TZNAME:PST
DTSTART:20241103T020000
TZOFFSETFROM:-0700
TZOFFSETTO:-0800
RDATE:20251102T020000
END:STANDARD
BEGIN:DAYLIGHT
TZNAME:PDT
DTSTART:20240310T020000
TZOFFSETFROM:-0800
TZOFFSETTO:-0700
RDATE:20250309T020000
RDATE:20260308T020000
END:DAYLIGHT
END:VTIMEZONE
BEGIN:VEVENT
UID:19f85175-a90b-405e-b285-30c2d0272cc6
DTSTAMP:20260419T163558Z
DESCRIPTION:Join us for a crucial field tour exploring the aftermath and re
 covery efforts of the Parasol\, Upper Pine\, and Telephone Wildfires in Ha
 rney County.⁠ Experience firsthand how our community comes together to add
 ress forest restoration challenges. Forest Service representatives will sh
 are updates on potential salvage logging\, ongoing repair work\, and rehab
 ilitation initiatives through the NEPA process.⁠\nMeeting Points: ⁠\n- Hig
 h Desert Partnership office @ 7:45am⁠\n- Junction of NF Roads 17 and Hwy 3
 95 @ 8:30am⁠\n⁠\n
DTSTART;TZID=America/Los_Angeles:20241107T083000
DTEND;TZID=America/Los_Angeles:20241107T153000
LOCATION:Harney County based field trip.
SUMMARY:Harney County Forest Restoration Collaborative Field Trip
END:VEVENT
END:VCALENDAR
