BEGIN:VCALENDAR
VERSION:2.0
PRODID:-//highdesertpartnership.org//NONSGML kigkonsult.se iCalcreator 2.30
 .10//
CALSCALE:GREGORIAN
METHOD:PUBLISH
UID:aaa97796-72f2-4bea-a3af-cfef4f7aeb69
X-WR-CALDESC:This is a joint meeting of the Harney County Forest Restoratio
 n and Wildfire Collaboratives. The public is always welcome. Contact Aaron
  Johnston at aaron@highdesertpartnership.org with any questions.
X-WR-RELCALID:941a6042c69306a28d89fb89ef9dcb6d
X-WR-TIMEZONE:America/Los_Angeles
BEGIN:VTIMEZONE
TZID:America/Los_Angeles
BEGIN:STANDARD
TZNAME:PST
DTSTART:20231105T020000
TZOFFSETFROM:-0700
TZOFFSETTO:-0800
RDATE:20241103T020000
RDATE:20251102T020000
END:STANDARD
BEGIN:DAYLIGHT
TZNAME:PDT
DTSTART:20240310T020000
TZOFFSETFROM:-0800
TZOFFSETTO:-0700
RDATE:20250309T020000
RDATE:20260308T020000
END:DAYLIGHT
END:VTIMEZONE
BEGIN:VEVENT
UID:ba711ead-44d5-4d8c-b04d-e4efcdd2d3da
DTSTAMP:20260419T194418Z
DESCRIPTION:This is a joint meeting of the Harney County Forest Restoration
  and Wildfire Collaboratives. The public is always welcome. Contact Aaron 
 Johnston at aaron@highdesertpartnership.org with any questions.
DTSTART;TZID=America/Los_Angeles:20240930T133000
DTEND;TZID=America/Los_Angeles:20240930T170000
LOCATION:Harney County Chamber of Commerce\, 484 N Broadway Ave\, Burns\, O
 R 97720 US
SUMMARY:Harney County Forest Restoration & Wildfire Collaborative Meeting
END:VEVENT
END:VCALENDAR
