BEGIN:VCALENDAR
VERSION:2.0
PRODID:-//highdesertpartnership.org//NONSGML kigkonsult.se iCalcreator 2.30
 .10//
CALSCALE:GREGORIAN
METHOD:PUBLISH
UID:0f2bd064-17f5-4605-80b2-ca84e695f60b
X-WR-CALDESC:
X-WR-RELCALID:fa3d646b878ec4a78e6749673cf125cc
X-WR-TIMEZONE:America/Los_Angeles
BEGIN:VTIMEZONE
TZID:America/Los_Angeles
BEGIN:STANDARD
TZNAME:PST
DTSTART:20231105T020000
TZOFFSETFROM:-0700
TZOFFSETTO:-0800
RDATE:20241103T020000
RDATE:20251102T020000
END:STANDARD
BEGIN:DAYLIGHT
TZNAME:PDT
DTSTART:20240310T020000
TZOFFSETFROM:-0800
TZOFFSETTO:-0700
RDATE:20250309T020000
RDATE:20260308T020000
END:DAYLIGHT
END:VTIMEZONE
BEGIN:VEVENT
UID:513dc56d-fb84-4166-a8c1-d9b3ebac2767
DTSTAMP:20260419T201056Z
DESCRIPTION:
DTSTART;TZID=America/Los_Angeles:20240920T083000
DTEND;TZID=America/Los_Angeles:20240920T160000
LOCATION:Historic Central Hotel\, 171 North Broadway\, Burns\, OR 97702 US
SUMMARY:Harney County 2024 Youth Summit
END:VEVENT
END:VCALENDAR
