BEGIN:VCALENDAR
VERSION:2.0
PRODID:-//highdesertpartnership.org//NONSGML kigkonsult.se iCalcreator 2.30
 .10//
CALSCALE:GREGORIAN
METHOD:PUBLISH
UID:96895ccb-ae47-4dfd-a593-aa8e474f1a8c
X-WR-CALDESC:
X-WR-RELCALID:6c494c52d3cd6baa5e40b95534a7d738
X-WR-TIMEZONE:America/Los_Angeles
BEGIN:VTIMEZONE
TZID:America/Los_Angeles
BEGIN:STANDARD
TZNAME:PST
DTSTART:20231105T020000
TZOFFSETFROM:-0700
TZOFFSETTO:-0800
RDATE:20241103T020000
RDATE:20251102T020000
END:STANDARD
BEGIN:DAYLIGHT
TZNAME:PDT
DTSTART:20240310T020000
TZOFFSETFROM:-0800
TZOFFSETTO:-0700
RDATE:20250309T020000
RDATE:20260308T020000
END:DAYLIGHT
END:VTIMEZONE
BEGIN:VEVENT
UID:cbc98a08-b46f-4a69-85db-acb7e6721092
DTSTAMP:20260419T194211Z
DESCRIPTION:
DTSTART;TZID=America/Los_Angeles:20240919T170000
DTEND;TZID=America/Los_Angeles:20240919T190000
LOCATION:Historic Central Hotel\, 171 N Broadway Avenue\, Burns\, OR 97720 
 US
SUMMARY:Harney County 2024 Youth Summit
END:VEVENT
END:VCALENDAR
