BEGIN:VCALENDAR
VERSION:2.0
PRODID:-//highdesertpartnership.org//NONSGML kigkonsult.se iCalcreator 2.30
 .10//
CALSCALE:GREGORIAN
METHOD:PUBLISH
UID:9aadee59-6a16-47c7-af5c-b958aeda28d3
X-WR-CALDESC:
X-WR-RELCALID:465d5a0e6651bc94965edfdaf3dda07d
X-WR-TIMEZONE:America/Los_Angeles
BEGIN:VTIMEZONE
TZID:America/Los_Angeles
BEGIN:STANDARD
TZNAME:PST
DTSTART:20231105T020000
TZOFFSETFROM:-0700
TZOFFSETTO:-0800
RDATE:20241103T020000
RDATE:20251102T020000
END:STANDARD
BEGIN:DAYLIGHT
TZNAME:PDT
DTSTART:20240310T020000
TZOFFSETFROM:-0800
TZOFFSETTO:-0700
RDATE:20250309T020000
END:DAYLIGHT
END:VTIMEZONE
BEGIN:VEVENT
UID:e99a347b-694c-43dd-983c-712cf5d4ebdf
DTSTAMP:20260419T195852Z
DESCRIPTION:
DTSTART;TZID=America/Los_Angeles:20240903T030000
DTEND;TZID=America/Los_Angeles:20240907T030001
LOCATION:Harney County Fairgrounds
SUMMARY:Harney County Fair & Rodeo 100 Years!
END:VEVENT
END:VCALENDAR
