BEGIN:VCALENDAR
VERSION:2.0
PRODID:-//highdesertpartnership.org//NONSGML kigkonsult.se iCalcreator 2.30
 .10//
CALSCALE:GREGORIAN
METHOD:PUBLISH
UID:a1466d52-69b6-431c-8331-ceafda664302
X-WR-CALDESC:
X-WR-RELCALID:648cae72294dd835671c5bc25ba06b4d
X-WR-TIMEZONE:America/Los_Angeles
BEGIN:VTIMEZONE
TZID:America/Los_Angeles
BEGIN:STANDARD
TZNAME:PST
DTSTART:20231105T020000
TZOFFSETFROM:-0700
TZOFFSETTO:-0800
RDATE:20241103T020000
RDATE:20251102T020000
END:STANDARD
BEGIN:DAYLIGHT
TZNAME:PDT
DTSTART:20240310T020000
TZOFFSETFROM:-0800
TZOFFSETTO:-0700
RDATE:20250309T020000
END:DAYLIGHT
END:VTIMEZONE
BEGIN:VEVENT
UID:aa6c76bf-ab14-4e18-bbef-9153cdbdeb8a
DTSTAMP:20260419T230831Z
DESCRIPTION:
DTSTART;TZID=America/Los_Angeles:20240717T170000
DTEND;TZID=America/Los_Angeles:20240717T190000
LOCATION:High Desert Partnership
SUMMARY:High Desert Partnership Board Meeting
END:VEVENT
END:VCALENDAR
