BEGIN:VCALENDAR
VERSION:2.0
PRODID:-//highdesertpartnership.org//NONSGML kigkonsult.se iCalcreator 2.30
 .10//
CALSCALE:GREGORIAN
METHOD:PUBLISH
UID:4aba51bb-e010-4453-9c51-eee182e27955
X-WR-CALDESC:The bimonthly meeting of this collaborative that is focused on
  reducing the potential for and impact of megafires in Harney County. The 
 public is always welcome. Contact Aaron Johnston at aaron@highdesertpartne
 rship.org with any questions.
X-WR-RELCALID:b9b814993c644f467e37e6fc9430d26f
X-WR-TIMEZONE:America/Los_Angeles
BEGIN:VTIMEZONE
TZID:America/Los_Angeles
BEGIN:STANDARD
TZNAME:PST
DTSTART:20231105T020000
TZOFFSETFROM:-0700
TZOFFSETTO:-0800
RDATE:20241103T020000
RDATE:20251102T020000
END:STANDARD
BEGIN:DAYLIGHT
TZNAME:PDT
DTSTART:20240310T020000
TZOFFSETFROM:-0800
TZOFFSETTO:-0700
RDATE:20250309T020000
END:DAYLIGHT
END:VTIMEZONE
BEGIN:VEVENT
UID:66e4cab2-dd43-48d9-8478-62c483059336
DTSTAMP:20260419T231840Z
DESCRIPTION:The bimonthly meeting of this collaborative that is focused on 
 reducing the potential for and impact of megafires in Harney County. The p
 ublic is always welcome. Contact Aaron Johnston at aaron@highdesertpartner
 ship.org with any questions.
DTSTART;TZID=America/Los_Angeles:20240716T090000
DTEND;TZID=America/Los_Angeles:20240716T120000
LOCATION:Harney County Chamber of Commerce\, 484 N Broadway Ave\, Burns\, O
 R 97720 US
SUMMARY:Harney County Wildfire Collaborative Meeting—CANCELLED DUE TO FALLS
  FIRE
END:VEVENT
END:VCALENDAR
