BEGIN:VCALENDAR
VERSION:2.0
PRODID:-//highdesertpartnership.org//NONSGML kigkonsult.se iCalcreator 2.30
 .10//
CALSCALE:GREGORIAN
METHOD:PUBLISH
UID:cbc76fa3-2187-41ad-899b-97850d39619f
X-WR-CALDESC:
X-WR-RELCALID:7c646932f358f7b98582d32c392c02f8
X-WR-TIMEZONE:America/Los_Angeles
BEGIN:VTIMEZONE
TZID:America/Los_Angeles
BEGIN:STANDARD
TZNAME:PST
DTSTART:20231105T020000
TZOFFSETFROM:-0700
TZOFFSETTO:-0800
RDATE:20241103T020000
RDATE:20251102T020000
END:STANDARD
BEGIN:DAYLIGHT
TZNAME:PDT
DTSTART:20240310T020000
TZOFFSETFROM:-0800
TZOFFSETTO:-0700
RDATE:20250309T020000
END:DAYLIGHT
END:VTIMEZONE
BEGIN:VEVENT
UID:3e2b7bde-8723-44de-b148-21442f013dd5
DTSTAMP:20260420T004902Z
DESCRIPTION:
DTSTART;TZID=America/Los_Angeles:20240618T080000
DTEND;TZID=America/Los_Angeles:20240618T140000
LOCATION:Southern Malheur National Forest
SUMMARY:Harney County Forest Restoration Collaborative Field Trip
END:VEVENT
END:VCALENDAR
