BEGIN:VCALENDAR
VERSION:2.0
PRODID:-//highdesertpartnership.org//NONSGML kigkonsult.se iCalcreator 2.30
 .10//
CALSCALE:GREGORIAN
METHOD:PUBLISH
UID:52aba199-44fb-4dd0-b28e-1078537a73ad
X-WR-CALDESC:We in Harney County know what it means to work together having
  built a culture of collaboration. The Flourishing Oregon conference at th
 e end of May in Portland is bringing people together from around the state
  to share insights and success stories about what happens when people do w
 ork together.\nDuring a presentation Tuesday\, May 28\, High Desert Partne
 rship's Denise Rose\, the Youth Changing the Community Collaborative Coord
 inator\, will participate in a panel: Collaboratives and Collective Impact
  sharing best practices from collaboration in Harney County.\nTo learn mor
 e about this conference and register to attend visit Flourishing Oregon.
X-WR-RELCALID:411a8b536a7449fee5b42e79f052e22e
X-WR-TIMEZONE:America/Los_Angeles
BEGIN:VTIMEZONE
TZID:America/Los_Angeles
BEGIN:STANDARD
TZNAME:PST
DTSTART:20231105T020000
TZOFFSETFROM:-0700
TZOFFSETTO:-0800
RDATE:20241103T020000
RDATE:20251102T020000
END:STANDARD
BEGIN:DAYLIGHT
TZNAME:PDT
DTSTART:20240310T020000
TZOFFSETFROM:-0800
TZOFFSETTO:-0700
RDATE:20250309T020000
END:DAYLIGHT
END:VTIMEZONE
BEGIN:VEVENT
UID:0d626e3f-3001-4e66-b896-ceb212ef9b7e
DTSTAMP:20260420T024905Z
DESCRIPTION:We in Harney County know what it means to work together having 
 built a culture of collaboration. The Flourishing Oregon conference at the
  end of May in Portland is bringing people together from around the state 
 to share insights and success stories about what happens when people do wo
 rk together.\nDuring a presentation Tuesday\, May 28\, High Desert Partner
 ship's Denise Rose\, the Youth Changing the Community Collaborative Coordi
 nator\, will participate in a panel: Collaboratives and Collective Impact 
 sharing best practices from collaboration in Harney County.\nTo learn more
  about this conference and register to attend visit Flourishing Oregon.
DTSTART;TZID=America/Los_Angeles:20240528T104500
DTEND;TZID=America/Los_Angeles:20240528T120000
LOCATION:375 NE Holladay St\, Portland\, OR 97232 US
SUMMARY:Flourishing Oregon Panel Participation
END:VEVENT
END:VCALENDAR
