BEGIN:VCALENDAR
VERSION:2.0
PRODID:-//highdesertpartnership.org//NONSGML kigkonsult.se iCalcreator 2.30
 .10//
CALSCALE:GREGORIAN
METHOD:PUBLISH
UID:169bee9c-4cba-48ec-a54b-1705f1a483d3
X-WR-CALDESC:Join us for a captivating discussion about transitions and mig
 ration in the Harney Basin\, brought to you by the Roundhouse Foundation a
 nd Pine Meadow Ranch. Speakers are Teresa 'Bird' Wicks\, Biologist with Bi
 rd Alliance of Oregon and partner of the Harney Basin Wetlands Collaborati
 ve and Brenda Smith\, High Desert Partnership's Director.\n\nThe event is 
 free but please register to attend.
X-WR-RELCALID:c8b1d5092bc692ee3f75d2c3ddf81dca
X-WR-TIMEZONE:America/Los_Angeles
BEGIN:VTIMEZONE
TZID:America/Los_Angeles
BEGIN:STANDARD
TZNAME:PST
DTSTART:20231105T020000
TZOFFSETFROM:-0700
TZOFFSETTO:-0800
RDATE:20241103T020000
END:STANDARD
BEGIN:DAYLIGHT
TZNAME:PDT
DTSTART:20240310T020000
TZOFFSETFROM:-0800
TZOFFSETTO:-0700
RDATE:20250309T020000
END:DAYLIGHT
END:VTIMEZONE
BEGIN:VEVENT
UID:20051ee0-79a8-4816-a05f-80994df9c9ff
DTSTAMP:20260420T024335Z
DESCRIPTION:Join us for a captivating discussion about transitions and migr
 ation in the Harney Basin\, brought to you by the Roundhouse Foundation an
 d Pine Meadow Ranch. Speakers are Teresa 'Bird' Wicks\, Biologist with Bir
 d Alliance of Oregon and partner of the Harney Basin Wetlands Collaborativ
 e and Brenda Smith\, High Desert Partnership's Director.\n\nThe event is f
 ree but please register to attend.
DTSTART;TZID=America/Los_Angeles:20240502T180000
DTEND;TZID=America/Los_Angeles:20240502T193000
LOCATION:68467 Three Creeks Road\, Sisters\, OR 97759 US
SUMMARY:Transitioning Landscapes
END:VEVENT
END:VCALENDAR
