BEGIN:VCALENDAR
VERSION:2.0
PRODID:-//highdesertpartnership.org//NONSGML kigkonsult.se iCalcreator 2.30
 .10//
CALSCALE:GREGORIAN
METHOD:PUBLISH
UID:43c79ff5-53e2-4264-a581-039b678696a3
X-WR-CALDESC:A monthly meeting of the Biz Harney Opportunity Collaborative.
  Biz Harney exists to help rural Harney County businesses start\, grow and
  succeed while also helping to build a thriving business environment. Gove
 rnment and nonprofit entities along with Tribal economic development are s
 itting at the same table finding solutions to improve Harney County's busi
 ness opportunity culture.
X-WR-RELCALID:cb06b1b6312f34171aaba0d9fd7f2642
X-WR-TIMEZONE:America/Los_Angeles
BEGIN:VTIMEZONE
TZID:America/Los_Angeles
BEGIN:STANDARD
TZNAME:PST
DTSTART:20231105T020000
TZOFFSETFROM:-0700
TZOFFSETTO:-0800
RDATE:20241103T020000
END:STANDARD
BEGIN:DAYLIGHT
TZNAME:PDT
DTSTART:20240310T020000
TZOFFSETFROM:-0800
TZOFFSETTO:-0700
RDATE:20250309T020000
END:DAYLIGHT
END:VTIMEZONE
BEGIN:VEVENT
UID:a8c3c60a-947f-4fa9-9494-9b44619a19fd
DTSTAMP:20260420T051344Z
DESCRIPTION:A monthly meeting of the Biz Harney Opportunity Collaborative. 
 Biz Harney exists to help rural Harney County businesses start\, grow and 
 succeed while also helping to build a thriving business environment. Gover
 nment and nonprofit entities along with Tribal economic development are si
 tting at the same table finding solutions to improve Harney County's busin
 ess opportunity culture.
DTSTART;TZID=America/Los_Angeles:20240423T120000
DTEND;TZID=America/Los_Angeles:20240423T133000
LOCATION:High Desert Partnership and virtual via Zoom
SUMMARY:Biz Harney Opportunity Collaborative Meeting
END:VEVENT
END:VCALENDAR
