BEGIN:VCALENDAR
VERSION:2.0
PRODID:-//highdesertpartnership.org//NONSGML kigkonsult.se iCalcreator 2.30
 .10//
CALSCALE:GREGORIAN
METHOD:PUBLISH
UID:8b8a12fd-74a6-4adf-907c-fc989e3744dd
X-WR-CALDESC:This is a gathering of this Southern Malheur Forest collaborat
 ive. This working group is finding solutions to improve the health and res
 ilience of Malheur National Forest while improving the economic and social
  conditions of Harney County. For any questions about attending this meeti
 ng contact Josh Hanson at josh@highdesertpartnership.org.
X-WR-RELCALID:fefeecfc4ea5655eb7ca208a38aa99fd
X-WR-TIMEZONE:America/Los_Angeles
BEGIN:VTIMEZONE
TZID:America/Los_Angeles
BEGIN:STANDARD
TZNAME:PST
DTSTART:20231105T020000
TZOFFSETFROM:-0700
TZOFFSETTO:-0800
RDATE:20241103T020000
END:STANDARD
BEGIN:DAYLIGHT
TZNAME:PDT
DTSTART:20240310T020000
TZOFFSETFROM:-0800
TZOFFSETTO:-0700
RDATE:20250309T020000
END:DAYLIGHT
END:VTIMEZONE
BEGIN:VEVENT
UID:8126e978-4de5-4575-a1c6-1994aba02047
DTSTAMP:20260420T045256Z
DESCRIPTION:This is a gathering of this Southern Malheur Forest collaborati
 ve. This working group is finding solutions to improve the health and resi
 lience of Malheur National Forest while improving the economic and social 
 conditions of Harney County. For any questions about attending this meetin
 g contact Josh Hanson at josh@highdesertpartnership.org.
DTSTART;TZID=America/Los_Angeles:20240415T140000
DTEND;TZID=America/Los_Angeles:20240415T160000
LOCATION:Virtual via ZOOM
SUMMARY:Harney County Forest Restoration Collaborative Meeting
END:VEVENT
END:VCALENDAR
