BEGIN:VCALENDAR
VERSION:2.0
PRODID:-//highdesertpartnership.org//NONSGML kigkonsult.se iCalcreator 2.30
 .10//
CALSCALE:GREGORIAN
METHOD:PUBLISH
UID:a990c555-1299-4294-ab39-2bb93821f8b2
X-WR-CALDESC:Find details and festival events here: https://www.migratorybi
 rdfestival.com/
X-WR-RELCALID:8a7318e3efc5a32d8efaab859c265b03
X-WR-TIMEZONE:America/Los_Angeles
BEGIN:VTIMEZONE
TZID:America/Los_Angeles
BEGIN:STANDARD
TZNAME:PST
DTSTART:20231105T020000
TZOFFSETFROM:-0700
TZOFFSETTO:-0800
RDATE:20241103T020000
END:STANDARD
BEGIN:DAYLIGHT
TZNAME:PDT
DTSTART:20240310T020000
TZOFFSETFROM:-0800
TZOFFSETTO:-0700
RDATE:20250309T020000
END:DAYLIGHT
END:VTIMEZONE
BEGIN:VEVENT
UID:273c9bba-52d6-43d5-84c3-fec907cf2947
DTSTAMP:20260420T050733Z
DESCRIPTION:Find details and festival events here: https://www.migratorybir
 dfestival.com/
DTSTART;TZID=America/Los_Angeles:20240411T030000
DTEND;TZID=America/Los_Angeles:20240414T030001
LOCATION:Harney County
SUMMARY:Harney County Migratory Bird Festival
END:VEVENT
END:VCALENDAR
