BEGIN:VCALENDAR
VERSION:2.0
PRODID:-//highdesertpartnership.org//NONSGML kigkonsult.se iCalcreator 2.30
 .10//
CALSCALE:GREGORIAN
METHOD:PUBLISH
UID:fb448d9c-b5cb-4cec-9136-f8e783ced44d
X-WR-CALDESC:A Harney Food Systems Community Event\nBring seeds to share or
  trade if you want\, not a requirement.\nLots of local vendors with great 
 items available including but not limited to: strawberry plants\, onions a
 nd seed potatoes for order.\nFood and coffee available for purchase.\nFree
  admission with the donation of a canned fruit or vegetable for the local 
 food bank.\nJoin a 10:30am presentation walk that includes a demonstration
  on soil testing\, canning information\, disease and pest control and noxi
 ous weed information.
X-WR-RELCALID:9997f69b46747e0e1b3bd9214bf20e41
X-WR-TIMEZONE:America/Los_Angeles
BEGIN:VTIMEZONE
TZID:America/Los_Angeles
BEGIN:STANDARD
TZNAME:PST
DTSTART:20231105T020000
TZOFFSETFROM:-0700
TZOFFSETTO:-0800
RDATE:20241103T020000
END:STANDARD
BEGIN:DAYLIGHT
TZNAME:PDT
DTSTART:20240310T020000
TZOFFSETFROM:-0800
TZOFFSETTO:-0700
RDATE:20250309T020000
END:DAYLIGHT
END:VTIMEZONE
BEGIN:VEVENT
UID:91972950-b9a1-49f6-9e23-6206997a4444
DTSTAMP:20260420T044340Z
DESCRIPTION:A Harney Food Systems Community Event\nBring seeds to share or 
 trade if you want\, not a requirement.\nLots of local vendors with great i
 tems available including but not limited to: strawberry plants\, onions an
 d seed potatoes for order.\nFood and coffee available for purchase.\nFree 
 admission with the donation of a canned fruit or vegetable for the local f
 ood bank.\nJoin a 10:30am presentation walk that includes a demonstration 
 on soil testing\, canning information\, disease and pest control and noxio
 us weed information.
DTSTART;TZID=America/Los_Angeles:20240406T090000
DTEND;TZID=America/Los_Angeles:20240406T140000
LOCATION:69660 S Egan\, Burns\, OR 97720 US
SUMMARY:Annual Seed Swap
END:VEVENT
END:VCALENDAR
