BEGIN:VCALENDAR
VERSION:2.0
PRODID:-//highdesertpartnership.org//NONSGML kigkonsult.se iCalcreator 2.30
 .10//
CALSCALE:GREGORIAN
METHOD:PUBLISH
UID:b5a48ed9-388d-41cb-b800-cdceb66d6722
X-WR-CALDESC:
X-WR-RELCALID:e4a05ad279a33551363eaddcd28d038a
X-WR-TIMEZONE:America/Los_Angeles
BEGIN:VTIMEZONE
TZID:America/Los_Angeles
BEGIN:STANDARD
TZNAME:PST
DTSTART:20231105T020000
TZOFFSETFROM:-0700
TZOFFSETTO:-0800
RDATE:20241103T020000
END:STANDARD
BEGIN:DAYLIGHT
TZNAME:PDT
DTSTART:20230312T020000
TZOFFSETFROM:-0800
TZOFFSETTO:-0700
RDATE:20240310T020000
RDATE:20250309T020000
END:DAYLIGHT
END:VTIMEZONE
BEGIN:VEVENT
UID:34fde2f2-248e-4fa8-b700-4e8b2a952cb2
DTSTAMP:20260420T083803Z
DESCRIPTION:
DTSTART;TZID=America/Los_Angeles:20240221T163000
DTEND;TZID=America/Los_Angeles:20240221T190000
LOCATION:Bella Java
SUMMARY:High Desert Partnership Special Board Meeting Event
END:VEVENT
END:VCALENDAR
